BEGIN:VCALENDAR
VERSION:2.0
PRODID:Bayern International - Veranstaltungs-Datenbank
BEGIN:VEVENT
UID:event3575@bayern-international.de
SUMMARY:Zollrechtliche Exportabwicklung und IT-Abwicklung in ATLAS
DESCRIPTION:Abläufe und Gestaltungsmöglichkeiten
CATEGORIES:Infoveranstaltung
LOCATION:Nürnberg
DTSTART;VALUE=DATE:20260420
DTEND;VALUE=DATE:20260421
ORGANIZER:mailto:evelyne.funk@nuernberg.ihk
END:VEVENT
END:VCALENDAR
