BEGIN:VCALENDAR
VERSION:2.0
PRODID:Bayern International - Veranstaltungs-Datenbank
BEGIN:VEVENT
UID:event5876@bayern-international.de
SUMMARY:Lateinamerika-Forum Bayern 2026
DESCRIPTION:
CATEGORIES:Infostand Bayern International
LOCATION:Nürnberg
DTSTART;VALUE=DATE:20260625
DTEND;VALUE=DATE:20260626
ORGANIZER;CN=Nicole Rackow:mailto:nrackow@bayern-international.de
END:VEVENT
END:VCALENDAR
