BEGIN:VCALENDAR
VERSION:2.0
PRODID:Bayern International - Veranstaltungs-Datenbank
BEGIN:VEVENT
UID:event3778@bayern-international.de
SUMMARY:Bürgschaften und Garantien - Grundlagen
DESCRIPTION:
CATEGORIES:Infoveranstaltung
LOCATION:Nürnberg
DTSTART;VALUE=DATE:20260421
DTEND;VALUE=DATE:20260422
ORGANIZER:mailto:sigrid.sehrig@nuernberg.ihk
END:VEVENT
END:VCALENDAR
