BEGIN:VCALENDAR
VERSION:2.0
PRODID:Bayern International - Veranstaltungs-Datenbank
BEGIN:VEVENT
UID:event5875@bayern-international.de
SUMMARY:Afrikaforum Bayern 2026
DESCRIPTION:
CATEGORIES:Infostand Bayern International
LOCATION:Bayreuth
DTSTART;VALUE=DATE:20260507
DTEND;VALUE=DATE:20260508
ORGANIZER;CN=Nicole Rackow:mailto:nrackow@bayern-international.de
END:VEVENT
END:VCALENDAR
