BEGIN:VCALENDAR
VERSION:2.0
PRODID:Bayern International - Veranstaltungs-Datenbank
BEGIN:VEVENT
UID:event5737@bayern-international.de
SUMMARY:PROPAK ASIA 2027
DESCRIPTION:The Premier Global Exhibition for Processing & Packaging in Asia
CATEGORIES:Messebeteiligung
LOCATION:Bangkok
DTSTART;VALUE=DATE:202706
DTEND;VALUE=DATE:202706
ORGANIZER;CN=Bettina Hainzlschmid:mailto:bhainzlschmid@bayern-international.de
END:VEVENT
END:VCALENDAR
