BEGIN:VCALENDAR
VERSION:2.0
PRODID:Bayern International - Veranstaltungs-Datenbank
BEGIN:VEVENT
UID:event5813@bayern-international.de
SUMMARY:Marktchancen in Indien: Wichtige Dokumente im Indiengeschäft
DESCRIPTION:
CATEGORIES:Infoveranstaltung
LOCATION:Regensburg
DTSTART;VALUE=DATE:20260429
DTEND;VALUE=DATE:20260430
ORGANIZER:mailto:HuberM@regensburg.ihk
END:VEVENT
END:VCALENDAR
