BEGIN:VCALENDAR
VERSION:2.0
PRODID:Bayern International - Veranstaltungs-Datenbank
BEGIN:VEVENT
UID:event5863@bayern-international.de
SUMMARY:Marktchancen in Indien: Erfolgsfaktor Personal in Indien - von der Planung zur erfolgreichen Besetzung
DESCRIPTION:
CATEGORIES:Infoveranstaltung
LOCATION:Regensburg
DTSTART;VALUE=DATE:20261125
DTEND;VALUE=DATE:20261126
ORGANIZER:mailto:HuberM@regensburg.ihk
END:VEVENT
END:VCALENDAR
