BEGIN:VCALENDAR
VERSION:2.0
PRODID:Bayern International - Veranstaltungs-Datenbank
BEGIN:VEVENT
UID:event5824@bayern-international.de
SUMMARY:LunchBriefing International: eUZ-Insights - Tipps für das elektronische Ursprungszeugnis
DESCRIPTION:Thema: Rückseitenerklärung - Was ist das? Und wann ist es notwendig/empfehlenswert?
CATEGORIES:Infoveranstaltung
LOCATION:Regensburg
DTSTART;VALUE=DATE:20261125
DTEND;VALUE=DATE:20261126
ORGANIZER:mailto:zormeier@regensburg.ihk
END:VEVENT
END:VCALENDAR
