BEGIN:VCALENDAR
VERSION:2.0
PRODID:Bayern International - Veranstaltungs-Datenbank
BEGIN:VEVENT
UID:event5763@bayern-international.de
SUMMARY:Delegationsreise nach Ägypten
DESCRIPTION:Gebäudeenergie / Stadtmobilität
CATEGORIES:Delegationsreise
LOCATION:
DTSTART;VALUE=DATE:20261207
DTEND;VALUE=DATE:20261211
ORGANIZER;CN=Rosi Saubert:mailto:rsaubert@bayern-international.de
END:VEVENT
END:VCALENDAR
