BEGIN:VCALENDAR
VERSION:2.0
PRODID:Bayern International - Veranstaltungs-Datenbank
BEGIN:VEVENT
UID:event5864@bayern-international.de
SUMMARY:Fokus Zoll: Tarifierung von Weihnachts- und Geschenkartikeln
DESCRIPTION:
CATEGORIES:Infoveranstaltung
LOCATION:Regensburg
DTSTART;VALUE=DATE:20261130
DTEND;VALUE=DATE:20261201
ORGANIZER:mailto:ptak@regensburg.ihk
END:VEVENT
END:VCALENDAR
