BEGIN:VCALENDAR
VERSION:2.0
PRODID:Bayern International - Veranstaltungs-Datenbank
BEGIN:VEVENT
UID:event5861@bayern-international.de
SUMMARY:Fokus Zoll: Persönliche Mitnahmen im kommerziellen Warenverkehr
DESCRIPTION:
CATEGORIES:Infoveranstaltung
LOCATION:Regensburg
DTSTART;VALUE=DATE:20261116
DTEND;VALUE=DATE:20261117
ORGANIZER:mailto:ptak@regensburg.ihk
END:VEVENT
END:VCALENDAR
