BEGIN:VCALENDAR
VERSION:2.0
PRODID:Bayern International - Veranstaltungs-Datenbank
BEGIN:VEVENT
UID:event5865@bayern-international.de
SUMMARY:Fokus Zoll: Nachhaltigkeitsaspekte & wichtige Nebenbereiche in der Zollabwicklung
DESCRIPTION:
CATEGORIES:Infoveranstaltung
LOCATION:Regensburg
DTSTART;VALUE=DATE:20261130
DTEND;VALUE=DATE:20261201
ORGANIZER:mailto:ptak@regensburg.ihk
END:VEVENT
END:VCALENDAR
