BEGIN:VCALENDAR
VERSION:2.0
PRODID:Bayern International - Veranstaltungs-Datenbank
BEGIN:VEVENT
UID:event5860@bayern-international.de
SUMMARY:Fokus Zoll: Incoterms im Außenhandel
DESCRIPTION:
CATEGORIES:Infoveranstaltung
LOCATION:Regensburg
DTSTART;VALUE=DATE:20261111
DTEND;VALUE=DATE:20261112
ORGANIZER:mailto:ptak@regensburg.ihk
END:VEVENT
END:VCALENDAR
