BEGIN:VCALENDAR
VERSION:2.0
PRODID:Bayern International - Veranstaltungs-Datenbank
BEGIN:VEVENT
UID:event5529@bayern-international.de
SUMMARY:Swiss Biotech Days 2026
DESCRIPTION:Biotechnology Exhibiton
CATEGORIES:Messebeteiligung
LOCATION:Basel
DTSTART;VALUE=DATE:20260504
DTEND;VALUE=DATE:20260506
ORGANIZER;CN=Torsten Wagner:mailto:twagner@bayern-international.de
END:VEVENT
END:VCALENDAR
