BEGIN:VCALENDAR
VERSION:2.0
PRODID:Bayern International - Veranstaltungs-Datenbank
BEGIN:VEVENT
UID:event5418@bayern-international.de
SUMMARY:Nordbygg 2026
DESCRIPTION:Internationale Baufachmesse
CATEGORIES:Messebeteiligung
LOCATION:Stockholm
DTSTART;VALUE=DATE:20260421
DTEND;VALUE=DATE:20260425
ORGANIZER;CN=Sebastian Zettelmeier:mailto:szettelmeier@bayern-international.de
END:VEVENT
END:VCALENDAR
