BEGIN:VCALENDAR
VERSION:2.0
PRODID:Bayern International - Veranstaltungs-Datenbank
BEGIN:VEVENT
UID:event5344@bayern-international.de
SUMMARY:BIO KOREA 2026
DESCRIPTION:International Convention
CATEGORIES:Messebeteiligung
LOCATION:Seoul
DTSTART;VALUE=DATE:20260428
DTEND;VALUE=DATE:20260501
ORGANIZER;CN=Torsten Wagner:mailto:twagner@bayern-international.de
END:VEVENT
END:VCALENDAR
