BEGIN:VCALENDAR
VERSION:2.0
PRODID:Bayern International - Event database
BEGIN:VEVENT
UID:event5434@bayern-international.de
SUMMARY:SPS ITALIA 2026
DESCRIPTION:Electric Automation Systems and Compents Trade Fair an Congress
CATEGORIES:Trade fair participation
LOCATION:Parma
DTSTART;VALUE=DATE:20260526
DTEND;VALUE=DATE:20260529
ORGANIZER;CN=Bettina Hainzlschmid:mailto:bhainzlschmid@bayern-international.de
END:VEVENT
END:VCALENDAR
