BEGIN:VCALENDAR
VERSION:2.0
PRODID:Bayern International - Event database
BEGIN:VEVENT
UID:event5438@bayern-international.de
SUMMARY:PROPAK ASIA 2026
DESCRIPTION:The 31st International Processing, Filling and Packing technology Event for Asia
CATEGORIES:Trade fair participation
LOCATION:Bangkok
DTSTART;VALUE=DATE:20260610
DTEND;VALUE=DATE:20260614
ORGANIZER;CN=Bettina Hainzlschmid:mailto:bhainzlschmid@bayern-international.de
END:VEVENT
END:VCALENDAR
