BEGIN:VCALENDAR
VERSION:2.0
PRODID:Bayern International - Event database
BEGIN:VEVENT
UID:event5719@bayern-international.de
SUMMARY:INFOSECURITY EUROPE 2026
DESCRIPTION:Europe's Premier Information Security Event
CATEGORIES:Trade fair participation
LOCATION:London
DTSTART;VALUE=DATE:20260602
DTEND;VALUE=DATE:20260605
ORGANIZER;CN=Kirsten Brinkmann:mailto:kbrinkmann@bayern-international.de
END:VEVENT
END:VCALENDAR
