BEGIN:VCALENDAR
VERSION:2.0
PRODID:Bayern International - Event database
BEGIN:VEVENT
UID:event5591@bayern-international.de
SUMMARY:Food industry for Armenia 2026
DESCRIPTION:
CATEGORIES:Bayern – Fit for Partnership
LOCATION:Bavaria
DTSTART;VALUE=DATE:20260622
DTEND;VALUE=DATE:20260628
ORGANIZER;CN=Maria Schmid Bragagnollo:mailto:mschmid@bayern-international.de
END:VEVENT
END:VCALENDAR
