BEGIN:VCALENDAR
VERSION:2.0
PRODID:Bayern International - Event database
BEGIN:VEVENT
UID:event5595@bayern-international.de
SUMMARY:Environmental technology for Kazakhstan 2026
DESCRIPTION:
CATEGORIES:Bayern – Fit for Partnership
LOCATION:Bavaria
DTSTART;VALUE=DATE:20260629
DTEND;VALUE=DATE:20260704
ORGANIZER;CN=Agnieszka Eckert:mailto:aeckert@bayern-international.de
END:VEVENT
END:VCALENDAR
